Workbook
Name list: 申込書!$AL$6:$AS$26

Sheet 申込書
B2: JFA 第11回 全日本U-18フットサル選手権大会 高知県大会 参加申込書
B4: チーム名 | IH4: NAMEKANJI | II4: NAMEKANA | IJ4: BDATE | IK4: PLAYERNO
AQ5: ・キャプテンは背番号横の"C"欄に○ | AX5: 該当者に〇 | IH5: =TRIM(AO7)& " "&TRIM(AP7) | II5: =ASC(TRIM(AQ7)&" "&TRIM(AR7)) | IJ5: =IF(#REF! ="","",#REF!) -> #REF! | IK5: =IF(AV7="","",AV7)
B6: フリガナ | S6: 携帯電話 | AL6: No. | AM6: C | AN6: 背番号 | AO6: ポジション | AP6: 名前（姓） | AQ6: 名前（名） | AR6: フリガナ（ｾｲ） | AS6: フリガナ（ﾒｲ） | AT6: 生年月日(19YYMMDD) | AU6: 登録選手番号 | AX6: 外国籍選手 | IH6: =TRIM(AO8)& " "&TRIM(AP8) | II6: =ASC(TRIM(AQ8)&" "&TRIM(AR8)) | IJ6: =IF(#REF! ="","",#REF!) -> #REF! | IK6: =IF(AV8="","",AV8)
B7: 連絡責任者名 | S7: E-mail | AL7: 1 | IH7: =TRIM(AO9)& " "&TRIM(AP9) | II7: =ASC(TRIM(AQ9)&" "&TRIM(AR9)) | IJ7: =IF(#REF! ="","",#REF!) -> #REF! | IK7: =IF(AV9="","",AV9)
B8: 連絡先 | G8: 自宅 | I8: ・ | J8: 勤務先 | L8: （ | U8: ） | W8: ＴＥＬ | AL8: 2 | IH8: =TRIM(AO10)& " "&TRIM(AP10) | II8: =ASC(TRIM(AQ10)&" "&TRIM(AR10)) | IJ8: =IF(#REF! ="","",#REF!) -> #REF! | IK8: =IF(AV10="","",AV10)
B9: 〒 | W9: ＦＡＸ | AL9: 3 | IH9: =TRIM(AO11)& " "&TRIM(AP11) | II9: =ASC(TRIM(AQ11)&" "&TRIM(AR11)) | IJ9: =IF(#REF! ="","",#REF!) -> #REF! | IK9: =IF(AV11="","",AV11)
B10: ユニフォームの色 | J10: Ｆ Ｐ | K10: シャツ | O10: ショーツ | S10: ｽﾄｯｷﾝｸﾞ | W10: Ｇ Ｋ | X10: シャツ | AB10: ショーツ | AF10: ｽﾄｯｷﾝｸﾞ | AL10: 4 | IH10: =TRIM(AO12)& " "&TRIM(AP12) | II10: =ASC(TRIM(AQ12)&" "&TRIM(AR12)) | IJ10: =IF(#REF! ="","",#REF!) -> #REF! | IK10: =IF(AV12="","",AV12)
H11: 〔正〕 | O11: 赤 | AL11: 5 | IH11: =TRIM(AO13)& " "&TRIM(AP13) | II11: =ASC(TRIM(AQ13)&" "&TRIM(AR13)) | IJ11: =IF(#REF! ="","",#REF!) -> #REF! | IK11: =IF(AV13="","",AV13)
H12: 〔副〕 | AL12: 6 | IH12: =TRIM(AO14)& " "&TRIM(AP14) | II12: =ASC(TRIM(AQ14)&" "&TRIM(AR14)) | IJ12: =IF(#REF! ="","",#REF!) -> #REF! | IK12: =IF(AV14="","",AV14)
B13: チーム役員（以下記載の役員のみベンチ入り可能） | AL13: 7 | IH13: =TRIM(AO15)& " "&TRIM(AP15) | II13: =ASC(TRIM(AQ15)&" "&TRIM(AR15)) | IJ13: =IF(#REF! ="","",#REF!) -> #REF! | IK13: =IF(AV15="","",AV15)
B14: チーム役職 | G14: 役 員 氏 名 | O14: フ リ ガ ナ | V14: 生 年 月 日 | AL14: 8 | IH14: =TRIM(AO16)& " "&TRIM(AP16) | II14: =ASC(TRIM(AQ16)&" "&TRIM(AR16)) | IJ14: =IF(#REF! ="","",#REF!) -> #REF! | IK14: =IF(AV16="","",AV16)
B15: 監 督 | AL15: 9 | IH15: =TRIM(AO17)& " "&TRIM(AP17) | II15: =ASC(TRIM(AQ17)&" "&TRIM(AR17)) | IJ15: =IF(#REF! ="","",#REF!) -> #REF! | IK15: =IF(AV17="","",AV17)
AL16: 10 | IH16: =TRIM(AO18)& " "&TRIM(AP18) | II16: =ASC(TRIM(AQ18)&" "&TRIM(AR18)) | IJ16: =IF(#REF! ="","",#REF!) -> #REF! | IK16: =IF(AV18="","",AV18)
AL17: 11 | IH17: =TRIM(AO19)& " "&TRIM(AP19) | II17: =ASC(TRIM(AQ19)&" "&TRIM(AR19)) | IJ17: =IF(#REF! ="","",#REF!) -> #REF! | IK17: =IF(AV19="","",AV19)
AL18: 12 | IH18: =TRIM(AO20)& " "&TRIM(AP20) | II18: =ASC(TRIM(AQ20)&" "&TRIM(AR20)) | IJ18: =IF(#REF! ="","",#REF!) -> #REF! | IK18: =IF(AV20="","",AV20)
AL19: 13 | IH19: =TRIM(AO26)& " "&TRIM(AP26) | II19: =ASC(TRIM(AQ26)&" "&TRIM(AR26)) | IJ19: =IF(#REF! ="","",#REF!) -> #REF! | IK19: =IF(AV26="","",AV26)
AL20: 14
AL21: 15
AL22: 16
AL23: 17
AL24: 18
AL25: 19
AL26: 20

Sheet 大会登録票変更届
K1: フットサル大会選手変更届け
A5: 大会名 | C5: 令和 | E5: 5 | G5: 年度
C6: JFA 第11回全日本U-18フットサル選手権大会 高知県大会
A9: チーム名
A13: 【削除する選手】
A14: 背番号 | C14: 氏名 | E14: ﾌﾘｶﾞﾅ
A18: 背番号 | C18: 氏名 | E18: ﾌﾘｶﾞﾅ
A22: 背番号 | C22: 氏名 | E22: ﾌﾘｶﾞﾅ
A27: 【追加する選手】
A28: 背番号 | C28: 氏名 | E28: ﾌﾘｶﾞﾅ | X28: 生年月日 | AE28: 登録番号
Z30: 年 | AB30: 月 | AD30: 日
U31: 男 | V31: ・ | W31: 女
A32: 背番号 | C32: 氏名 | E32: ﾌﾘｶﾞﾅ | X32: 生年月日 | AE32: 登録番号
Z34: 年 | AB34: 月 | AD34: 日
U35: 男 | V35: ・ | W35: 女
A36: 背番号 | C36: 氏名 | E36: ﾌﾘｶﾞﾅ | X36: 生年月日 | AE36: 登録番号
Z38: 年 | AB38: 月 | AD38: 日
U39: 男 | V39: ・ | W39: 女
P44: チーム代表者 自署名

Sheet メンバー表
A1: メンバー 提出用紙
F2: 開催日： | G2: 45445
F4: 対戦相手：
F5: JFA 第 11 回 全日本U-18フットサル選手権大会 高知県大会
F6: =申込書!G4 -> 0
A7: チーム名：
A9: 通 番 | B9: 背番号 | C9: キャプテン | D9: ポジション
E10: メンバー情報 | G10: 試合登録 | L10: 通 | M10: スタッフ情報
G12: 先発 | H12: 交代 | I12: 登録 | J12: 出場 | L12: 番
E13: 氏名 | F13: フリガナ | G13: 選手 | H13: 要員 | I13: しない | J13: 停止 | M13: 名前 | P13: 役職 | S13: ベンチ入
I14: 選手 | J14: 状況
A15: 1 | B15: =IF(申込書!AN7="","",申込書!AN7) | C15: =IF(申込書!AM7="","","C") | D15: =IF(申込書!AO7="","",申込書!AO7) | E15: =IF(申込書!AP7="","",申込書!AP7&" "&申込書!AQ7) | F15: =IF(申込書!AR7="","",申込書!AR7&" "&申込書!AS7) | L15: 1 | M15: =IF(申込書!G15="","",申込書!G15) | P15: =IF(申込書!B15="","",申込書!B15) -> 監 督
A16: 2 | B16: =IF(申込書!AN8="","",申込書!AN8) | C16: =IF(申込書!AM8="","","C") | D16: =IF(申込書!AO8="","",申込書!AO8) | E16: =IF(申込書!AP8="","",申込書!AP8&" "&申込書!AQ8) | F16: =IF(申込書!AR8="","",申込書!AR8&" "&申込書!AS8) | L16: 2 | M16: =IF(申込書!G16="","",申込書!G16) | P16: =IF(申込書!B16="","",申込書!B16)
A17: 3 | B17: =IF(申込書!AN9="","",申込書!AN9) | C17: =IF(申込書!AM9="","","C") | D17: =IF(申込書!AO9="","",申込書!AO9) | E17: =IF(申込書!AP9="","",申込書!AP9&" "&申込書!AQ9) | F17: =IF(申込書!AR9="","",申込書!AR9&" "&申込書!AS9) | L17: 3
A18: 4 | B18: =IF(申込書!AN10="","",申込書!AN10) | C18: =IF(申込書!AM10="","","C") | D18: =IF(申込書!AO10="","",申込書!AO10) | E18: =IF(申込書!AP10="","",申込書!AP10&" "&申込書!AQ10) | F18: =IF(申込書!AR10="","",申込書!AR10&" "&申込書!AS10) | L18: 4
A19: 5 | B19: =IF(申込書!AN11="","",申込書!AN11) | C19: =IF(申込書!AM11="","","C") | D19: =IF(申込書!AO11="","",申込書!AO11) | E19: =IF(申込書!AP11="","",申込書!AP11&" "&申込書!AQ11) | F19: =IF(申込書!AR11="","",申込書!AR11&" "&申込書!AS11) | L19: 5
A20: 6 | B20: =IF(申込書!AN12="","",申込書!AN12) | C20: =IF(申込書!AM12="","","C") | D20: =IF(申込書!AO12="","",申込書!AO12) | E20: =IF(申込書!AP12="","",申込書!AP12&" "&申込書!AQ12) | F20: =IF(申込書!AR12="","",申込書!AR12&" "&申込書!AS12) | L20: 6
A21: 7 | B21: =IF(申込書!AN13="","",申込書!AN13) | C21: =IF(申込書!AM13="","","C") | D21: =IF(申込書!AO13="","",申込書!AO13) | E21: =IF(申込書!AP13="","",申込書!AP13&" "&申込書!AQ13) | F21: =IF(申込書!AR13="","",申込書!AR13&" "&申込書!AS13) | L21: チーム役員の数 3 名以内 ベンチ入するスタッフに上位の役員より番号（1,2,…）を記入
A22: 8 | B22: =IF(申込書!AN14="","",申込書!AN14) | C22: =IF(申込書!AM14="","","C") | D22: =IF(申込書!AO14="","",申込書!AO14) | E22: =IF(申込書!AP14="","",申込書!AP14&" "&申込書!AQ14) | F22: =IF(申込書!AR14="","",申込書!AR14&" "&申込書!AS14)
A23: 9 | B23: =IF(申込書!AN15="","",申込書!AN15) | C23: =IF(申込書!AM15="","","C") | D23: =IF(申込書!AO15="","",申込書!AO15) | E23: =IF(申込書!AP15="","",申込書!AP15&" "&申込書!AQ15) | F23: =IF(申込書!AR15="","",申込書!AR15&" "&申込書!AS15) | L23: ユニフォーム色（○）
A24: 10 | B24: =IF(申込書!AN16="","",申込書!AN16) | C24: =IF(申込書!AM16="","","C") | D24: =IF(申込書!AO16="","",申込書!AO16) | E24: =IF(申込書!AP16="","",申込書!AP16&" "&申込書!AQ16) | F24: =IF(申込書!AR16="","",申込書!AR16&" "&申込書!AS16) | L24: ポジション | Q24: シャツ | S24: ショーツ | U24: ストッキング
A25: 11 | B25: =IF(申込書!AN17="","",申込書!AN17) | C25: =IF(申込書!AM17="","","C") | D25: =IF(申込書!AO17="","",申込書!AO17) | E25: =IF(申込書!AP17="","",申込書!AP17&" "&申込書!AQ17) | F25: =IF(申込書!AR17="","",申込書!AR17&" "&申込書!AS17) | L25: FP | O25: 正 | Q25: =申込書!K11 -> 0 | S25: =申込書!O11 -> 赤 | U25: =申込書!S11
A26: 12 | B26: =IF(申込書!AN18="","",申込書!AN18) | C26: =IF(申込書!AM18="","","C") | D26: =IF(申込書!AO18="","",申込書!AO18) | E26: =IF(申込書!AP18="","",申込書!AP18&" "&申込書!AQ18) | F26: =IF(申込書!AR18="","",申込書!AR18&" "&申込書!AS18) | O26: 副１ | Q26: =申込書!K12 -> 0 | S26: =申込書!O12 | U26: =申込書!S12
A27: 13 | B27: =IF(申込書!AN19="","",申込書!AN19) | C27: =IF(申込書!AM19="","","C") | D27: =IF(申込書!AO19="","",申込書!AO19) | E27: =IF(申込書!AP19="","",申込書!AP19&" "&申込書!AQ19) | F27: =IF(申込書!AR19="","",申込書!AR19&" "&申込書!AS19) | O27: 副２
A28: 14 | B28: =IF(申込書!AN20="","",申込書!AN20) | C28: =IF(申込書!AM20="","","C") | D28: =IF(申込書!AO20="","",申込書!AO20) | E28: =IF(申込書!AP20="","",申込書!AP20&" "&申込書!AQ20) | F28: =IF(申込書!AR20="","",申込書!AR20&" "&申込書!AS20) | L28: GK | O28: 正 | Q28: =申込書!X11 | S28: =申込書!AB11 | U28: =申込書!AF11
A29: 15 | B29: =IF(申込書!AN21="","",申込書!AN21) | C29: =IF(申込書!AM21="","","C") | D29: =IF(申込書!AO21="","",申込書!AO21) | E29: =IF(申込書!AP21="","",申込書!AP21&" "&申込書!AQ21) | F29: =IF(申込書!AR21="","",申込書!AR21&" "&申込書!AS21) | O29: 副１ | Q29: =申込書!X12 | S29: =申込書!AB12 | U29: =申込書!AF12
A30: 16 | B30: =IF(申込書!AN22="","",申込書!AN22) | C30: =IF(申込書!AM22="","","C") | D30: =IF(申込書!AO22="","",申込書!AO22) | E30: =IF(申込書!AP22="","",申込書!AP22&" "&申込書!AQ22) | F30: =IF(申込書!AR22="","",申込書!AR22&" "&申込書!AS22) | O30: 副２
A31: 17 | B31: =IF(申込書!AN23="","",申込書!AN23) | C31: =IF(申込書!AM23="","","C") | D31: =IF(申込書!AO23="","",申込書!AO23) | E31: =IF(申込書!AP23="","",申込書!AP23&" "&申込書!AQ23) | F31: =IF(申込書!AR23="","",申込書!AR23&" "&申込書!AS23)
A32: 18 | B32: =IF(申込書!AN24="","",申込書!AN24) | C32: =IF(申込書!AM24="","","C") | D32: =IF(申込書!AO24="","",申込書!AO24) | E32: =IF(申込書!AP24="","",申込書!AP24&" "&申込書!AQ24) | F32: =IF(申込書!AR24="","",申込書!AR24&" "&申込書!AS24) | O32: ビブス：
A33: 19 | B33: =IF(申込書!AN25="","",申込書!AN25) | C33: =IF(申込書!AM25="","","C") | D33: =IF(申込書!AO25="","",申込書!AO25) | E33: =IF(申込書!AP25="","",申込書!AP25&" "&申込書!AQ25) | F33: =IF(申込書!AR25="","",申込書!AR25&" "&申込書!AS25)
A34: 20 | B34: =IF(申込書!AN26="","",申込書!AN26) | C34: =IF(申込書!AM26="","","C") | D34: =IF(申込書!AO26="","",申込書!AO26) | E34: =IF(申込書!AP26="","",申込書!AP26&" "&申込書!AQ26) | F34: =IF(申込書!AR26="","",申込書!AR26&" "&申込書!AS26) | L34: 監督署名：
A35: 21
A36: 22
A37: 23
A38: 24 | L38: マッチコミッショナー署名：
A39: 25
A40: 26
A41: 34
A42: 35
A43: 36
...

Sheet メンバー表 (手書き)
A1: メンバー 提出用紙
F2: 開催日： | G2: 45445
F4: 対戦相手：
F5: JFA 第 11 回 全日本U-18フットサル選手権大会 高知県大会
A7: チーム名：
A9: 通 番 | B9: 背番号 | C9: キャプテン | D9: ポジション
E10: メンバー情報 | G10: 試合登録 | L10: 通 | M10: スタッフ情報
G12: 先発 | H12: 交代 | I12: 登録 | J12: 出場 | L12: 番
E13: 氏名 | F13: フリガナ | G13: 選手 | H13: 要員 | I13: しない | J13: 停止 | M13: 名前 | P13: 役職 | S13: ベンチ入
I14: 選手 | J14: 状況
A15: 1 | L15: 1
A16: 2 | L16: 2
A17: 3 | L17: 3
A18: 4 | L18: 4
A19: 5 | L19: 5
A20: 6 | L20: 6
A21: 7 | L21: チーム役員の数 3 名以内 ベンチ入するスタッフに上位の役員より番号（1,2,…）を記入
A22: 8
A23: 9 | L23: ユニフォーム色（○）
A24: 10 | L24: ポジション | Q24: シャツ | S24: ショーツ | U24: ストッキング
A25: 11 | L25: FP | O25: 正
A26: 12 | O26: 副１
A27: 13 | O27: 副２
A28: 14 | L28: GK | O28: 正
A29: 15 | O29: 副１
A30: 16 | O30: 副２
A31: 17
A32: 18 | O32: ビブス：
A33: 19
A34: 20 | L34: 監督署名：
A35: 21
A36: 22
A37: 23
A38: 24 | L38: マッチコミッショナー署名：
A39: 25
A40: 26
A41: 34
A42: 35
A43: 36
A44: 37
...
